BEGIN:VCALENDAR
VERSION:2.0
PRODID:icalendar-ruby
CALSCALE:GREGORIAN
METHOD:PUBLISH
BEGIN:VEVENT
DTSTAMP:20260422T044051Z
UID:23-1209241@chialphapoint.org
DTSTART:20260506T000000Z
DTEND:20260506T020000Z
CLASS:PUBLIC
CREATED:20260417T113307
DESCRIPTION:Come let us celebrate you if you are a senior graduating. Pleas
 e fill out the form below to let us know you will be there. 
LAST-MODIFIED:20260417T113307
LOCATION:Alumni Room - DUC
SUMMARY:Senior Graduation
URL;VALUE=URI:https://www.chialphapoint.org/events/senior-graduation/2026-0
 5-05
ATTACH;FILENAME=y9DK.jpg;FMTTYPE=image/jpeg:https://dq5pwpg1q8ru0.cloudfron
 t.net/2026/04/17/16/33/07/476d5a69-1452-4d9d-8495-ca0fff481abc/y9DK.jpg
END:VEVENT
END:VCALENDAR
