BEGIN:VCALENDAR
VERSION:2.0
PRODID:icalendar-ruby
CALSCALE:GREGORIAN
METHOD:PUBLISH
BEGIN:VEVENT
DTSTAMP:20260422T044321Z
UID:20-1218706@chialphapoint.org
DTSTART:20260508T230000Z
DTEND:20260509T010000Z
CLASS:PUBLIC
CREATED:20260421T130431
DESCRIPTION:Time is a place holder 
LAST-MODIFIED:20260421T130431
LOCATION:
SUMMARY:Senior dinner
URL;VALUE=URI:https://www.chialphapoint.org/events/senior-dinner/2026-05-08
ATTACH;FILENAME=FBePY.jpg;FMTTYPE=image/jpeg:https://dq5pwpg1q8ru0.cloudfro
 nt.net/2026/04/17/16/30/57/a5a2be85-1e19-4331-8c42-14b3306682a4/FBePY.jpg
ATTACH;FILENAME=Black and White Modern Congratulations Graduates Instagram 
 Post (Presentation).jpg;FMTTYPE=image/jpeg:https://dq5pwpg1q8ru0.cloudfron
 t.net/2026/04/17/14/27/46/9bef8118-8ca8-48fa-8e9c-9c7b86be08ef/Black%20and
 %20White%20Modern%20Congratulations%20Graduates%20Instagram%20Post%20(Pres
 entation).jpg
END:VEVENT
END:VCALENDAR
