BEGIN:VCALENDAR
VERSION:2.0
PRODID:icalendar-ruby
CALSCALE:GREGORIAN
METHOD:PUBLISH
BEGIN:VEVENT
DTSTAMP:20260422T044203Z
UID:22-1209237@chialphapoint.org
DTSTART:20260501T230000Z
DTEND:20260502T010000Z
CLASS:PUBLIC
CREATED:20260417T112734
DESCRIPTION:\n\n\nWe would love an opportunity to \n\n\nmeet you and introd
 uce ourselves. \n\n\nThe purpose of ‘Family Night’ is to provide a bri
 ef overview of Chi Alpha \n\n\nas a ministry\, to celebrate growth happeni
 ng with your student\, to share where God is leading the ministry in \n\n\
 nthe coming years\, and to explain how you can personally be a part of it!
 \n\n\n(Desserts &amp\; Light Snacks Provided)\n\n
LAST-MODIFIED:20260417T112734
LOCATION:Highland Church 700 Hoover Ave S\, Plover\, WI 54467
SUMMARY:Family Night
URL;VALUE=URI:https://www.chialphapoint.org/events/family-night/2026-05-01
ATTACH;FILENAME=APP---HOME-Banners-Instagram-Post-45.jpg;FMTTYPE=image/jpeg
 :https://dq5pwpg1q8ru0.cloudfront.net/2026/04/17/16/27/34/34c526fc-e81c-45
 b6-bf81-be78c72bd2e5/APP---HOME-Banners-Instagram-Post-45.jpg
END:VEVENT
END:VCALENDAR
