BEGIN:VCALENDAR
VERSION:2.0
PRODID:icalendar-ruby
CALSCALE:GREGORIAN
METHOD:PUBLISH
BEGIN:VEVENT
DTSTAMP:20260422T043036Z
UID:21-1209239@chialphapoint.org
DTSTART:20260503T200000Z
DTEND:20260503T210000Z
CLASS:PUBLIC
CREATED:20260417T112935
DESCRIPTION:Come celebrate our friends getting baptised and maybe even get 
 baptised yourself! 
LAST-MODIFIED:20260417T112935
LOCATION:Barg house
SUMMARY:Baptisms sign up below!
URL;VALUE=URI:https://www.chialphapoint.org/events/baptisms-sign-up-below/2
 026-05-03
ATTACH;FILENAME=FTP5B.jpg;FMTTYPE=image/jpeg:https://dq5pwpg1q8ru0.cloudfro
 nt.net/2026/04/17/16/29/06/cd1a8d27-f005-4557-8c6b-5018cb69380d/FTP5B.jpg
END:VEVENT
END:VCALENDAR
